BEGIN:VCALENDAR
VERSION:2.0
PRODID:-//Associazione Nazionale Famiglie Caduti e Dispersi in Guerra - ECPv6.15.15//NONSGML v1.0//EN
CALSCALE:GREGORIAN
METHOD:PUBLISH
X-WR-CALNAME:Associazione Nazionale Famiglie Caduti e Dispersi in Guerra
X-ORIGINAL-URL:https://anfcdg.it
X-WR-CALDESC:Eventi per Associazione Nazionale Famiglie Caduti e Dispersi in Guerra
REFRESH-INTERVAL;VALUE=DURATION:PT1H
X-Robots-Tag:noindex
X-PUBLISHED-TTL:PT1H
BEGIN:VTIMEZONE
TZID:Europe/Rome
BEGIN:DAYLIGHT
TZOFFSETFROM:+0100
TZOFFSETTO:+0200
TZNAME:CEST
DTSTART:20250330T010000
END:DAYLIGHT
BEGIN:STANDARD
TZOFFSETFROM:+0200
TZOFFSETTO:+0100
TZNAME:CET
DTSTART:20251026T010000
END:STANDARD
BEGIN:DAYLIGHT
TZOFFSETFROM:+0100
TZOFFSETTO:+0200
TZNAME:CEST
DTSTART:20260329T010000
END:DAYLIGHT
BEGIN:STANDARD
TZOFFSETFROM:+0200
TZOFFSETTO:+0100
TZNAME:CET
DTSTART:20261025T010000
END:STANDARD
BEGIN:DAYLIGHT
TZOFFSETFROM:+0100
TZOFFSETTO:+0200
TZNAME:CEST
DTSTART:20270328T010000
END:DAYLIGHT
BEGIN:STANDARD
TZOFFSETFROM:+0200
TZOFFSETTO:+0100
TZNAME:CET
DTSTART:20271031T010000
END:STANDARD
END:VTIMEZONE
BEGIN:VEVENT
DTSTART;TZID=Europe/Rome:20260421T160000
DTEND;TZID=Europe/Rome:20260421T200000
DTSTAMP:20260421T120322
CREATED:20260407T081650Z
LAST-MODIFIED:20260407T085500Z
UID:3734-1776787200-1776801600@anfcdg.it
SUMMARY:Manifestazione commemorativa e culturale dal titolo “Voci di Memoria e Armonie di Pace” _ Benevento
DESCRIPTION:  \nMARTEDÌ 21 APRILE 2026\, ALLE ORE 16:00 _  \nPRESSO IL TEATRO SAN MARCO\, VIA TRAIANO 4 – BENEVENTO \nBenevento è una delle città più belle ed eleganti della Campania. Un luogo da non perdere\, un’occasione per vivere una giornata immersi nella storia. \nPromossa dal COMITATO PROVINCIALE ANFCDG DI BENEVENTO la manifestazione commemorativa e culturale dal titolo “Voci di Memoria e Armonie di Pace” che si terrà Martedì 21 aprile 2026\, alle ore 16:00 presso il Teatro San Marco\, Via Traiano 4 – Benevento \nL’iniziativa nasce con l’intento di promuovere e valorizzare il significato profondo della pace e della libertà\, mantenendo vivo il ricordo delle vittime delle guerre e rendendo omaggio al sacrificio di quanti hanno servito la Patria con coraggio e senso del dovere. \nIl programma prevede momenti di riflessione e testimonianza\, racconti dedicati a uomini valorosi e un concerto storico-musicale\, quale espressione artistica e simbolica di memoria e speranza per le nuove generazioni. \nLOCANDINA
URL:https://anfcdg.it/event/manifestazione-commemorativa-e-culturale-dal-titolo-voci-di-memoria-e-armonie-di-pace-_-benevento/
LOCATION:TEATRO SAN MARCO\, VIA TRAIANO\, 4\, BENEVENTO\, 82100\, Italy
CATEGORIES:Manifestazioni
END:VEVENT
END:VCALENDAR